BEGIN:VCALENDAR
VERSION:2.0
PRODID:-//The Church in Gurugram - ECPv6.15.20//NONSGML v1.0//EN
CALSCALE:GREGORIAN
METHOD:PUBLISH
X-ORIGINAL-URL:https://thechurchingurugram.in
X-WR-CALDESC:Events for The Church in Gurugram
REFRESH-INTERVAL;VALUE=DURATION:PT1H
X-Robots-Tag:noindex
X-PUBLISHED-TTL:PT1H
BEGIN:VTIMEZONE
TZID:Asia/Kolkata
BEGIN:STANDARD
TZOFFSETFROM:+0530
TZOFFSETTO:+0530
TZNAME:IST
DTSTART:20180101T000000
END:STANDARD
END:VTIMEZONE
BEGIN:VTIMEZONE
TZID:UTC
BEGIN:STANDARD
TZOFFSETFROM:+0000
TZOFFSETTO:+0000
TZNAME:UTC
DTSTART:20180101T000000
END:STANDARD
END:VTIMEZONE
BEGIN:VEVENT
DTSTART;TZID=Asia/Kolkata:20190513T193000
DTEND;TZID=Asia/Kolkata:20190513T203000
DTSTAMP:20260420T000535
CREATED:20190412T025945Z
LAST-MODIFIED:20190412T025945Z
UID:2276-1557775800-1557779400@thechurchingurugram.in
SUMMARY:Group Meeting
DESCRIPTION:Our small groups are at the heart of our church life and community. Small groups are characterised by a vital spiritual pursuit\, an intimate loving atmosphere\, and a committed goal of spiritual fruit-bearing (John 15:12-17). Groups organically form and develop across the city\, across all ages\, and across all ethnicities. \nWhile we treasure the larger Sunday gatherings where the whole church comes together\, the small groups add a more personal and daily component to our church lives..Valley View Estate
URL:https://thechurchingurugram.in/event/group-meeting-2019-05-13/
LOCATION:Valley View Estate\, Gurugram\, India
CATEGORIES:Group Meeting
ORGANIZER;CN="Church in Gururgram":MAILTO:thechurchingurugram@gmail.com
END:VEVENT
BEGIN:VEVENT
DTSTART;TZID=Asia/Kolkata:20190512T100000
DTEND;TZID=Asia/Kolkata:20190512T130000
DTSTAMP:20260420T000535
CREATED:20190412T034631Z
LAST-MODIFIED:20190412T034631Z
UID:2648-1557655200-1557666000@thechurchingurugram.in
SUMMARY:Lord's Table Meeting
DESCRIPTION:
URL:https://thechurchingurugram.in/event/lords-table-meeting-2019-05-12/
LOCATION:DLF Phase 1\, Sector 26\, Gurugram\, Haryana 122002\, India
CATEGORIES:Lord's Table Meeting
ORGANIZER;CN="Church in Gururgram":MAILTO:thechurchingurugram@gmail.com
END:VEVENT
BEGIN:VEVENT
DTSTART;TZID=Asia/Kolkata:20190511T160000
DTEND;TZID=Asia/Kolkata:20190511T190000
DTSTAMP:20260420T000535
CREATED:20190412T033742Z
LAST-MODIFIED:20190412T033742Z
UID:2608-1557590400-1557601200@thechurchingurugram.in
SUMMARY:Gospel Preaching
DESCRIPTION:
URL:https://thechurchingurugram.in/event/gospel-preaching-2019-05-11/
LOCATION:DLF Phase 1\, Sector 26\, Gurugram\, Haryana 122002\, India
CATEGORIES:Gospel Preaching
ORGANIZER;CN="Church in Gururgram":MAILTO:thechurchingurugram@gmail.com
END:VEVENT
BEGIN:VEVENT
DTSTART;TZID=Asia/Kolkata:20190511T143000
DTEND;TZID=Asia/Kolkata:20190511T173000
DTSTAMP:20260420T000535
CREATED:20190412T033502Z
LAST-MODIFIED:20190412T033502Z
UID:2568-1557585000-1557595800@thechurchingurugram.in
SUMMARY:Prayer Meeting
DESCRIPTION:
URL:https://thechurchingurugram.in/event/prayer-meeting-2019-05-11/
LOCATION:DLF Phase 1\, Sector 26\, Gurugram\, Haryana 122002\, India
CATEGORIES:Prayer meeting
ORGANIZER;CN="Church in Gururgram":MAILTO:thechurchingurugram@gmail.com
END:VEVENT
BEGIN:VEVENT
DTSTART;TZID=Asia/Kolkata:20190510T193000
DTEND;TZID=Asia/Kolkata:20190510T203000
DTSTAMP:20260420T000535
CREATED:20190412T033120Z
LAST-MODIFIED:20190412T033120Z
UID:2494-1557516600-1557520200@thechurchingurugram.in
SUMMARY:Home Meeting
DESCRIPTION:
URL:https://thechurchingurugram.in/event/home-meeting-2-2019-05-10-2/
LOCATION:DLF Phase 1\, Sector 26\, Gurugram\, Haryana 122002\, India
CATEGORIES:Home Meeting
ORGANIZER;CN="Church in Gururgram":MAILTO:thechurchingurugram@gmail.com
END:VEVENT
BEGIN:VEVENT
DTSTART;TZID=Asia/Kolkata:20190510T163000
DTEND;TZID=Asia/Kolkata:20190510T173000
DTSTAMP:20260420T000535
CREATED:20190412T033120Z
LAST-MODIFIED:20190412T033120Z
UID:2493-1557505800-1557509400@thechurchingurugram.in
SUMMARY:Home Meeting
DESCRIPTION:
URL:https://thechurchingurugram.in/event/home-meeting-2-2019-05-10/
LOCATION:DLF Phase 1\, Sector 26\, Gurugram\, Haryana 122002\, India
CATEGORIES:Home Meeting
ORGANIZER;CN="Church in Gururgram":MAILTO:thechurchingurugram@gmail.com
END:VEVENT
BEGIN:VEVENT
DTSTART;TZID=UTC:20190509T200000
DTEND;TZID=UTC:20190509T210000
DTSTAMP:20260420T000535
CREATED:20190412T032427Z
LAST-MODIFIED:20190412T032427Z
UID:2450-1557432000-1557435600@thechurchingurugram.in
SUMMARY:Group Meeting
DESCRIPTION:Our small groups are at the heart of our church life and community. Small groups are characterized by a vital spiritual pursuit\, an intimate loving atmosphere\, and a committed goal of spiritual fruit-bearing (John 15:12-17). Groups organically form and develop across the city\, across all ages\, and across all ethnicities. \nWhile we treasure the larger Sunday gatherings where the whole church comes together\, the small groups add a more personal and daily component to our church lives.  The New Testament frequently uses the term “one another”\, and it is through our small groups that we practically enter into a “one another” living where we: \n“love one another” (John 13:34)\n“show honor one to another” (Rom. 12:10)\n“be of the same mind toward one another” (Rom. 12:16)\n“greet one another” (Rom. 16:16)\n“bear one another’s burdens” (Gal. 6:2)\n“bearing one another in love” (Eph. 4:2)\n“speaking to one another in psalms and hymns” (Eph. 5:19)\n“teaching and admonishing one another” (Col. 3:16)\n“exhort one another each day” (Heb. 3:13)\n“consider one another so as to incite one another to love and good works” (Heb. 10:24)\n“blessing one another” (1 Pet. 3:9)\n“be hospitable to one another” (1 Pet. 4:9)
URL:https://thechurchingurugram.in/event/group-meeting-2-2019-05-09/
LOCATION:Golf Course Extension Road\, Badshahpur\, Sector 66\, Gurugram\, Haryana\, India
CATEGORIES:Group Meeting
ORGANIZER;CN="Church in Gururgram":MAILTO:thechurchingurugram@gmail.com
END:VEVENT
BEGIN:VEVENT
DTSTART;TZID=Asia/Kolkata:20190508T190000
DTEND;TZID=Asia/Kolkata:20190508T200000
DTSTAMP:20260420T000535
CREATED:20190412T032049Z
LAST-MODIFIED:20190412T032049Z
UID:2410-1557342000-1557345600@thechurchingurugram.in
SUMMARY:Home Meeting
DESCRIPTION:
URL:https://thechurchingurugram.in/event/home-meeting-2019-05-08/
LOCATION:Sector 56\, Gurugram\, Haryana\, Gurugram\, India
CATEGORIES:Home Meeting
ORGANIZER;CN="Church in Gururgram":MAILTO:thechurchingurugram@gmail.com
END:VEVENT
BEGIN:VEVENT
DTSTART;TZID=Asia/Kolkata:20190507T183000
DTEND;TZID=Asia/Kolkata:20190507T193000
DTSTAMP:20260420T000535
CREATED:20190412T031205Z
LAST-MODIFIED:20190412T031319Z
UID:2331-1557253800-1557257400@thechurchingurugram.in
SUMMARY:Truth Pursuing
DESCRIPTION:
URL:https://thechurchingurugram.in/event/truth-pursuing-2019-05-07/
LOCATION:DLF Phase 1\, Sector 26\, Gurugram\, Haryana 122002\, India
CATEGORIES:Truth Pursuing
END:VEVENT
BEGIN:VEVENT
DTSTART;TZID=Asia/Kolkata:20190506T193000
DTEND;TZID=Asia/Kolkata:20190506T203000
DTSTAMP:20260420T000535
CREATED:20190412T025945Z
LAST-MODIFIED:20190412T025945Z
UID:2275-1557171000-1557174600@thechurchingurugram.in
SUMMARY:Group Meeting
DESCRIPTION:Our small groups are at the heart of our church life and community. Small groups are characterised by a vital spiritual pursuit\, an intimate loving atmosphere\, and a committed goal of spiritual fruit-bearing (John 15:12-17). Groups organically form and develop across the city\, across all ages\, and across all ethnicities. \nWhile we treasure the larger Sunday gatherings where the whole church comes together\, the small groups add a more personal and daily component to our church lives..Valley View Estate
URL:https://thechurchingurugram.in/event/group-meeting-2019-05-06/
LOCATION:Valley View Estate\, Gurugram\, India
CATEGORIES:Group Meeting
ORGANIZER;CN="Church in Gururgram":MAILTO:thechurchingurugram@gmail.com
END:VEVENT
BEGIN:VEVENT
DTSTART;TZID=Asia/Kolkata:20190505T100000
DTEND;TZID=Asia/Kolkata:20190505T130000
DTSTAMP:20260420T000535
CREATED:20190412T034631Z
LAST-MODIFIED:20190412T034631Z
UID:2647-1557050400-1557061200@thechurchingurugram.in
SUMMARY:Lord's Table Meeting
DESCRIPTION:
URL:https://thechurchingurugram.in/event/lords-table-meeting-2019-05-05/
LOCATION:DLF Phase 1\, Sector 26\, Gurugram\, Haryana 122002\, India
CATEGORIES:Lord's Table Meeting
ORGANIZER;CN="Church in Gururgram":MAILTO:thechurchingurugram@gmail.com
END:VEVENT
BEGIN:VEVENT
DTSTART;TZID=Asia/Kolkata:20190504T160000
DTEND;TZID=Asia/Kolkata:20190504T190000
DTSTAMP:20260420T000535
CREATED:20190412T033742Z
LAST-MODIFIED:20190412T033742Z
UID:2607-1556985600-1556996400@thechurchingurugram.in
SUMMARY:Gospel Preaching
DESCRIPTION:
URL:https://thechurchingurugram.in/event/gospel-preaching-2019-05-04/
LOCATION:DLF Phase 1\, Sector 26\, Gurugram\, Haryana 122002\, India
CATEGORIES:Gospel Preaching
ORGANIZER;CN="Church in Gururgram":MAILTO:thechurchingurugram@gmail.com
END:VEVENT
BEGIN:VEVENT
DTSTART;TZID=Asia/Kolkata:20190504T143000
DTEND;TZID=Asia/Kolkata:20190504T173000
DTSTAMP:20260420T000535
CREATED:20190412T033502Z
LAST-MODIFIED:20190412T033502Z
UID:2567-1556980200-1556991000@thechurchingurugram.in
SUMMARY:Prayer Meeting
DESCRIPTION:
URL:https://thechurchingurugram.in/event/prayer-meeting-2019-05-04/
LOCATION:DLF Phase 1\, Sector 26\, Gurugram\, Haryana 122002\, India
CATEGORIES:Prayer meeting
ORGANIZER;CN="Church in Gururgram":MAILTO:thechurchingurugram@gmail.com
END:VEVENT
BEGIN:VEVENT
DTSTART;TZID=Asia/Kolkata:20190503T193000
DTEND;TZID=Asia/Kolkata:20190503T203000
DTSTAMP:20260420T000535
CREATED:20190412T033120Z
LAST-MODIFIED:20190412T033120Z
UID:2492-1556911800-1556915400@thechurchingurugram.in
SUMMARY:Home Meeting
DESCRIPTION:
URL:https://thechurchingurugram.in/event/home-meeting-2-2019-05-03-2/
LOCATION:DLF Phase 1\, Sector 26\, Gurugram\, Haryana 122002\, India
CATEGORIES:Home Meeting
ORGANIZER;CN="Church in Gururgram":MAILTO:thechurchingurugram@gmail.com
END:VEVENT
BEGIN:VEVENT
DTSTART;TZID=Asia/Kolkata:20190503T163000
DTEND;TZID=Asia/Kolkata:20190503T173000
DTSTAMP:20260420T000535
CREATED:20190412T033120Z
LAST-MODIFIED:20190412T033120Z
UID:2491-1556901000-1556904600@thechurchingurugram.in
SUMMARY:Home Meeting
DESCRIPTION:
URL:https://thechurchingurugram.in/event/home-meeting-2-2019-05-03/
LOCATION:DLF Phase 1\, Sector 26\, Gurugram\, Haryana 122002\, India
CATEGORIES:Home Meeting
ORGANIZER;CN="Church in Gururgram":MAILTO:thechurchingurugram@gmail.com
END:VEVENT
BEGIN:VEVENT
DTSTART;TZID=UTC:20190502T200000
DTEND;TZID=UTC:20190502T210000
DTSTAMP:20260420T000535
CREATED:20190412T032427Z
LAST-MODIFIED:20190412T032427Z
UID:2449-1556827200-1556830800@thechurchingurugram.in
SUMMARY:Group Meeting
DESCRIPTION:Our small groups are at the heart of our church life and community. Small groups are characterized by a vital spiritual pursuit\, an intimate loving atmosphere\, and a committed goal of spiritual fruit-bearing (John 15:12-17). Groups organically form and develop across the city\, across all ages\, and across all ethnicities. \nWhile we treasure the larger Sunday gatherings where the whole church comes together\, the small groups add a more personal and daily component to our church lives.  The New Testament frequently uses the term “one another”\, and it is through our small groups that we practically enter into a “one another” living where we: \n“love one another” (John 13:34)\n“show honor one to another” (Rom. 12:10)\n“be of the same mind toward one another” (Rom. 12:16)\n“greet one another” (Rom. 16:16)\n“bear one another’s burdens” (Gal. 6:2)\n“bearing one another in love” (Eph. 4:2)\n“speaking to one another in psalms and hymns” (Eph. 5:19)\n“teaching and admonishing one another” (Col. 3:16)\n“exhort one another each day” (Heb. 3:13)\n“consider one another so as to incite one another to love and good works” (Heb. 10:24)\n“blessing one another” (1 Pet. 3:9)\n“be hospitable to one another” (1 Pet. 4:9)
URL:https://thechurchingurugram.in/event/group-meeting-2-2019-05-02/
LOCATION:Golf Course Extension Road\, Badshahpur\, Sector 66\, Gurugram\, Haryana\, India
CATEGORIES:Group Meeting
ORGANIZER;CN="Church in Gururgram":MAILTO:thechurchingurugram@gmail.com
END:VEVENT
BEGIN:VEVENT
DTSTART;TZID=Asia/Kolkata:20190501T190000
DTEND;TZID=Asia/Kolkata:20190501T200000
DTSTAMP:20260420T000535
CREATED:20190412T032049Z
LAST-MODIFIED:20190412T032049Z
UID:2409-1556737200-1556740800@thechurchingurugram.in
SUMMARY:Home Meeting
DESCRIPTION:
URL:https://thechurchingurugram.in/event/home-meeting-2019-05-01/
LOCATION:Sector 56\, Gurugram\, Haryana\, Gurugram\, India
CATEGORIES:Home Meeting
ORGANIZER;CN="Church in Gururgram":MAILTO:thechurchingurugram@gmail.com
END:VEVENT
BEGIN:VEVENT
DTSTART;TZID=Asia/Kolkata:20190430T183000
DTEND;TZID=Asia/Kolkata:20190430T193000
DTSTAMP:20260420T000535
CREATED:20190412T031205Z
LAST-MODIFIED:20190412T031318Z
UID:2330-1556649000-1556652600@thechurchingurugram.in
SUMMARY:Truth Pursuing
DESCRIPTION:
URL:https://thechurchingurugram.in/event/truth-pursuing-2019-04-30/
LOCATION:DLF Phase 1\, Sector 26\, Gurugram\, Haryana 122002\, India
CATEGORIES:Truth Pursuing
END:VEVENT
BEGIN:VEVENT
DTSTART;TZID=Asia/Kolkata:20190429T193000
DTEND;TZID=Asia/Kolkata:20190429T203000
DTSTAMP:20260420T000535
CREATED:20190412T025945Z
LAST-MODIFIED:20190412T025945Z
UID:2274-1556566200-1556569800@thechurchingurugram.in
SUMMARY:Group Meeting
DESCRIPTION:Our small groups are at the heart of our church life and community. Small groups are characterised by a vital spiritual pursuit\, an intimate loving atmosphere\, and a committed goal of spiritual fruit-bearing (John 15:12-17). Groups organically form and develop across the city\, across all ages\, and across all ethnicities. \nWhile we treasure the larger Sunday gatherings where the whole church comes together\, the small groups add a more personal and daily component to our church lives..Valley View Estate
URL:https://thechurchingurugram.in/event/group-meeting-2019-04-29/
LOCATION:Valley View Estate\, Gurugram\, India
CATEGORIES:Group Meeting
ORGANIZER;CN="Church in Gururgram":MAILTO:thechurchingurugram@gmail.com
END:VEVENT
BEGIN:VEVENT
DTSTART;TZID=Asia/Kolkata:20190428T100000
DTEND;TZID=Asia/Kolkata:20190428T130000
DTSTAMP:20260420T000535
CREATED:20190412T034631Z
LAST-MODIFIED:20190412T034631Z
UID:2646-1556445600-1556456400@thechurchingurugram.in
SUMMARY:Lord's Table Meeting
DESCRIPTION:
URL:https://thechurchingurugram.in/event/lords-table-meeting-2019-04-28/
LOCATION:DLF Phase 1\, Sector 26\, Gurugram\, Haryana 122002\, India
CATEGORIES:Lord's Table Meeting
ORGANIZER;CN="Church in Gururgram":MAILTO:thechurchingurugram@gmail.com
END:VEVENT
BEGIN:VEVENT
DTSTART;TZID=Asia/Kolkata:20190427T160000
DTEND;TZID=Asia/Kolkata:20190427T190000
DTSTAMP:20260420T000535
CREATED:20190412T033742Z
LAST-MODIFIED:20190412T033742Z
UID:2606-1556380800-1556391600@thechurchingurugram.in
SUMMARY:Gospel Preaching
DESCRIPTION:
URL:https://thechurchingurugram.in/event/gospel-preaching-2019-04-27/
LOCATION:DLF Phase 1\, Sector 26\, Gurugram\, Haryana 122002\, India
CATEGORIES:Gospel Preaching
ORGANIZER;CN="Church in Gururgram":MAILTO:thechurchingurugram@gmail.com
END:VEVENT
BEGIN:VEVENT
DTSTART;TZID=Asia/Kolkata:20190427T143000
DTEND;TZID=Asia/Kolkata:20190427T173000
DTSTAMP:20260420T000535
CREATED:20190412T033502Z
LAST-MODIFIED:20190412T033502Z
UID:2566-1556375400-1556386200@thechurchingurugram.in
SUMMARY:Prayer Meeting
DESCRIPTION:
URL:https://thechurchingurugram.in/event/prayer-meeting-2019-04-27/
LOCATION:DLF Phase 1\, Sector 26\, Gurugram\, Haryana 122002\, India
CATEGORIES:Prayer meeting
ORGANIZER;CN="Church in Gururgram":MAILTO:thechurchingurugram@gmail.com
END:VEVENT
BEGIN:VEVENT
DTSTART;TZID=Asia/Kolkata:20190426T193000
DTEND;TZID=Asia/Kolkata:20190426T203000
DTSTAMP:20260420T000535
CREATED:20190412T033120Z
LAST-MODIFIED:20190412T033120Z
UID:2490-1556307000-1556310600@thechurchingurugram.in
SUMMARY:Home Meeting
DESCRIPTION:
URL:https://thechurchingurugram.in/event/home-meeting-2-2019-04-26-2/
LOCATION:DLF Phase 1\, Sector 26\, Gurugram\, Haryana 122002\, India
CATEGORIES:Home Meeting
ORGANIZER;CN="Church in Gururgram":MAILTO:thechurchingurugram@gmail.com
END:VEVENT
BEGIN:VEVENT
DTSTART;TZID=Asia/Kolkata:20190426T163000
DTEND;TZID=Asia/Kolkata:20190426T173000
DTSTAMP:20260420T000535
CREATED:20190412T033120Z
LAST-MODIFIED:20190412T033120Z
UID:2489-1556296200-1556299800@thechurchingurugram.in
SUMMARY:Home Meeting
DESCRIPTION:
URL:https://thechurchingurugram.in/event/home-meeting-2-2019-04-26/
LOCATION:DLF Phase 1\, Sector 26\, Gurugram\, Haryana 122002\, India
CATEGORIES:Home Meeting
ORGANIZER;CN="Church in Gururgram":MAILTO:thechurchingurugram@gmail.com
END:VEVENT
BEGIN:VEVENT
DTSTART;TZID=UTC:20190425T200000
DTEND;TZID=UTC:20190425T210000
DTSTAMP:20260420T000535
CREATED:20190412T032427Z
LAST-MODIFIED:20190412T032427Z
UID:2448-1556222400-1556226000@thechurchingurugram.in
SUMMARY:Group Meeting
DESCRIPTION:Our small groups are at the heart of our church life and community. Small groups are characterized by a vital spiritual pursuit\, an intimate loving atmosphere\, and a committed goal of spiritual fruit-bearing (John 15:12-17). Groups organically form and develop across the city\, across all ages\, and across all ethnicities. \nWhile we treasure the larger Sunday gatherings where the whole church comes together\, the small groups add a more personal and daily component to our church lives.  The New Testament frequently uses the term “one another”\, and it is through our small groups that we practically enter into a “one another” living where we: \n“love one another” (John 13:34)\n“show honor one to another” (Rom. 12:10)\n“be of the same mind toward one another” (Rom. 12:16)\n“greet one another” (Rom. 16:16)\n“bear one another’s burdens” (Gal. 6:2)\n“bearing one another in love” (Eph. 4:2)\n“speaking to one another in psalms and hymns” (Eph. 5:19)\n“teaching and admonishing one another” (Col. 3:16)\n“exhort one another each day” (Heb. 3:13)\n“consider one another so as to incite one another to love and good works” (Heb. 10:24)\n“blessing one another” (1 Pet. 3:9)\n“be hospitable to one another” (1 Pet. 4:9)
URL:https://thechurchingurugram.in/event/group-meeting-2-2019-04-25/
LOCATION:Golf Course Extension Road\, Badshahpur\, Sector 66\, Gurugram\, Haryana\, India
CATEGORIES:Group Meeting
ORGANIZER;CN="Church in Gururgram":MAILTO:thechurchingurugram@gmail.com
END:VEVENT
BEGIN:VEVENT
DTSTART;TZID=Asia/Kolkata:20190424T190000
DTEND;TZID=Asia/Kolkata:20190424T200000
DTSTAMP:20260420T000535
CREATED:20190412T032049Z
LAST-MODIFIED:20190412T032049Z
UID:2408-1556132400-1556136000@thechurchingurugram.in
SUMMARY:Home Meeting
DESCRIPTION:
URL:https://thechurchingurugram.in/event/home-meeting-2019-04-24/
LOCATION:Sector 56\, Gurugram\, Haryana\, Gurugram\, India
CATEGORIES:Home Meeting
ORGANIZER;CN="Church in Gururgram":MAILTO:thechurchingurugram@gmail.com
END:VEVENT
BEGIN:VEVENT
DTSTART;TZID=Asia/Kolkata:20190423T183000
DTEND;TZID=Asia/Kolkata:20190423T193000
DTSTAMP:20260420T000535
CREATED:20190412T031205Z
LAST-MODIFIED:20190412T031318Z
UID:2329-1556044200-1556047800@thechurchingurugram.in
SUMMARY:Truth Pursuing
DESCRIPTION:
URL:https://thechurchingurugram.in/event/truth-pursuing-2019-04-23/
LOCATION:DLF Phase 1\, Sector 26\, Gurugram\, Haryana 122002\, India
CATEGORIES:Truth Pursuing
END:VEVENT
BEGIN:VEVENT
DTSTART;TZID=Asia/Kolkata:20190422T193000
DTEND;TZID=Asia/Kolkata:20190422T203000
DTSTAMP:20260420T000535
CREATED:20190412T025945Z
LAST-MODIFIED:20190412T025945Z
UID:2273-1555961400-1555965000@thechurchingurugram.in
SUMMARY:Group Meeting
DESCRIPTION:Our small groups are at the heart of our church life and community. Small groups are characterised by a vital spiritual pursuit\, an intimate loving atmosphere\, and a committed goal of spiritual fruit-bearing (John 15:12-17). Groups organically form and develop across the city\, across all ages\, and across all ethnicities. \nWhile we treasure the larger Sunday gatherings where the whole church comes together\, the small groups add a more personal and daily component to our church lives..Valley View Estate
URL:https://thechurchingurugram.in/event/group-meeting-2019-04-22/
LOCATION:Valley View Estate\, Gurugram\, India
CATEGORIES:Group Meeting
ORGANIZER;CN="Church in Gururgram":MAILTO:thechurchingurugram@gmail.com
END:VEVENT
BEGIN:VEVENT
DTSTART;TZID=Asia/Kolkata:20190421T100000
DTEND;TZID=Asia/Kolkata:20190421T130000
DTSTAMP:20260420T000535
CREATED:20190412T034631Z
LAST-MODIFIED:20190412T034631Z
UID:2645-1555840800-1555851600@thechurchingurugram.in
SUMMARY:Lord's Table Meeting
DESCRIPTION:
URL:https://thechurchingurugram.in/event/lords-table-meeting-2019-04-21/
LOCATION:DLF Phase 1\, Sector 26\, Gurugram\, Haryana 122002\, India
CATEGORIES:Lord's Table Meeting
ORGANIZER;CN="Church in Gururgram":MAILTO:thechurchingurugram@gmail.com
END:VEVENT
BEGIN:VEVENT
DTSTART;TZID=Asia/Kolkata:20190420T160000
DTEND;TZID=Asia/Kolkata:20190420T190000
DTSTAMP:20260420T000535
CREATED:20190412T033742Z
LAST-MODIFIED:20190412T033742Z
UID:2605-1555776000-1555786800@thechurchingurugram.in
SUMMARY:Gospel Preaching
DESCRIPTION:
URL:https://thechurchingurugram.in/event/gospel-preaching-2019-04-20/
LOCATION:DLF Phase 1\, Sector 26\, Gurugram\, Haryana 122002\, India
CATEGORIES:Gospel Preaching
ORGANIZER;CN="Church in Gururgram":MAILTO:thechurchingurugram@gmail.com
END:VEVENT
END:VCALENDAR