BEGIN:VCALENDAR
VERSION:2.0
PRODID:-//The Church in Gurugram - ECPv6.15.20//NONSGML v1.0//EN
CALSCALE:GREGORIAN
METHOD:PUBLISH
X-WR-CALNAME:The Church in Gurugram
X-ORIGINAL-URL:https://thechurchingurugram.in
X-WR-CALDESC:Events for The Church in Gurugram
REFRESH-INTERVAL;VALUE=DURATION:PT1H
X-Robots-Tag:noindex
X-PUBLISHED-TTL:PT1H
BEGIN:VTIMEZONE
TZID:Asia/Kolkata
BEGIN:STANDARD
TZOFFSETFROM:+0530
TZOFFSETTO:+0530
TZNAME:IST
DTSTART:20180101T000000
END:STANDARD
END:VTIMEZONE
BEGIN:VTIMEZONE
TZID:UTC
BEGIN:STANDARD
TZOFFSETFROM:+0000
TZOFFSETTO:+0000
TZNAME:UTC
DTSTART:20180101T000000
END:STANDARD
END:VTIMEZONE
BEGIN:VEVENT
DTSTART;TZID=Asia/Kolkata:20190427T160000
DTEND;TZID=Asia/Kolkata:20190427T190000
DTSTAMP:20260420T032930
CREATED:20190412T033742Z
LAST-MODIFIED:20190412T033742Z
UID:2606-1556380800-1556391600@thechurchingurugram.in
SUMMARY:Gospel Preaching
DESCRIPTION:
URL:https://thechurchingurugram.in/event/gospel-preaching-2019-04-27/
LOCATION:DLF Phase 1\, Sector 26\, Gurugram\, Haryana 122002\, India
CATEGORIES:Gospel Preaching
ORGANIZER;CN="Church in Gururgram":MAILTO:thechurchingurugram@gmail.com
END:VEVENT
BEGIN:VEVENT
DTSTART;TZID=Asia/Kolkata:20190427T143000
DTEND;TZID=Asia/Kolkata:20190427T173000
DTSTAMP:20260420T032930
CREATED:20190412T033502Z
LAST-MODIFIED:20190412T033502Z
UID:2566-1556375400-1556386200@thechurchingurugram.in
SUMMARY:Prayer Meeting
DESCRIPTION:
URL:https://thechurchingurugram.in/event/prayer-meeting-2019-04-27/
LOCATION:DLF Phase 1\, Sector 26\, Gurugram\, Haryana 122002\, India
CATEGORIES:Prayer meeting
ORGANIZER;CN="Church in Gururgram":MAILTO:thechurchingurugram@gmail.com
END:VEVENT
BEGIN:VEVENT
DTSTART;TZID=Asia/Kolkata:20190426T193000
DTEND;TZID=Asia/Kolkata:20190426T203000
DTSTAMP:20260420T032930
CREATED:20190412T033120Z
LAST-MODIFIED:20190412T033120Z
UID:2490-1556307000-1556310600@thechurchingurugram.in
SUMMARY:Home Meeting
DESCRIPTION:
URL:https://thechurchingurugram.in/event/home-meeting-2-2019-04-26-2/
LOCATION:DLF Phase 1\, Sector 26\, Gurugram\, Haryana 122002\, India
CATEGORIES:Home Meeting
ORGANIZER;CN="Church in Gururgram":MAILTO:thechurchingurugram@gmail.com
END:VEVENT
BEGIN:VEVENT
DTSTART;TZID=Asia/Kolkata:20190426T163000
DTEND;TZID=Asia/Kolkata:20190426T173000
DTSTAMP:20260420T032930
CREATED:20190412T033120Z
LAST-MODIFIED:20190412T033120Z
UID:2489-1556296200-1556299800@thechurchingurugram.in
SUMMARY:Home Meeting
DESCRIPTION:
URL:https://thechurchingurugram.in/event/home-meeting-2-2019-04-26/
LOCATION:DLF Phase 1\, Sector 26\, Gurugram\, Haryana 122002\, India
CATEGORIES:Home Meeting
ORGANIZER;CN="Church in Gururgram":MAILTO:thechurchingurugram@gmail.com
END:VEVENT
BEGIN:VEVENT
DTSTART;TZID=UTC:20190425T200000
DTEND;TZID=UTC:20190425T210000
DTSTAMP:20260420T032930
CREATED:20190412T032427Z
LAST-MODIFIED:20190412T032427Z
UID:2448-1556222400-1556226000@thechurchingurugram.in
SUMMARY:Group Meeting
DESCRIPTION:Our small groups are at the heart of our church life and community. Small groups are characterized by a vital spiritual pursuit\, an intimate loving atmosphere\, and a committed goal of spiritual fruit-bearing (John 15:12-17). Groups organically form and develop across the city\, across all ages\, and across all ethnicities. \nWhile we treasure the larger Sunday gatherings where the whole church comes together\, the small groups add a more personal and daily component to our church lives.  The New Testament frequently uses the term “one another”\, and it is through our small groups that we practically enter into a “one another” living where we: \n“love one another” (John 13:34)\n“show honor one to another” (Rom. 12:10)\n“be of the same mind toward one another” (Rom. 12:16)\n“greet one another” (Rom. 16:16)\n“bear one another’s burdens” (Gal. 6:2)\n“bearing one another in love” (Eph. 4:2)\n“speaking to one another in psalms and hymns” (Eph. 5:19)\n“teaching and admonishing one another” (Col. 3:16)\n“exhort one another each day” (Heb. 3:13)\n“consider one another so as to incite one another to love and good works” (Heb. 10:24)\n“blessing one another” (1 Pet. 3:9)\n“be hospitable to one another” (1 Pet. 4:9)
URL:https://thechurchingurugram.in/event/group-meeting-2-2019-04-25/
LOCATION:Golf Course Extension Road\, Badshahpur\, Sector 66\, Gurugram\, Haryana\, India
CATEGORIES:Group Meeting
ORGANIZER;CN="Church in Gururgram":MAILTO:thechurchingurugram@gmail.com
END:VEVENT
BEGIN:VEVENT
DTSTART;TZID=Asia/Kolkata:20190424T190000
DTEND;TZID=Asia/Kolkata:20190424T200000
DTSTAMP:20260420T032930
CREATED:20190412T032049Z
LAST-MODIFIED:20190412T032049Z
UID:2408-1556132400-1556136000@thechurchingurugram.in
SUMMARY:Home Meeting
DESCRIPTION:
URL:https://thechurchingurugram.in/event/home-meeting-2019-04-24/
LOCATION:Sector 56\, Gurugram\, Haryana\, Gurugram\, India
CATEGORIES:Home Meeting
ORGANIZER;CN="Church in Gururgram":MAILTO:thechurchingurugram@gmail.com
END:VEVENT
BEGIN:VEVENT
DTSTART;TZID=Asia/Kolkata:20190423T183000
DTEND;TZID=Asia/Kolkata:20190423T193000
DTSTAMP:20260420T032930
CREATED:20190412T031205Z
LAST-MODIFIED:20190412T031318Z
UID:2329-1556044200-1556047800@thechurchingurugram.in
SUMMARY:Truth Pursuing
DESCRIPTION:
URL:https://thechurchingurugram.in/event/truth-pursuing-2019-04-23/
LOCATION:DLF Phase 1\, Sector 26\, Gurugram\, Haryana 122002\, India
CATEGORIES:Truth Pursuing
END:VEVENT
BEGIN:VEVENT
DTSTART;TZID=Asia/Kolkata:20190422T193000
DTEND;TZID=Asia/Kolkata:20190422T203000
DTSTAMP:20260420T032930
CREATED:20190412T025945Z
LAST-MODIFIED:20190412T025945Z
UID:2273-1555961400-1555965000@thechurchingurugram.in
SUMMARY:Group Meeting
DESCRIPTION:Our small groups are at the heart of our church life and community. Small groups are characterised by a vital spiritual pursuit\, an intimate loving atmosphere\, and a committed goal of spiritual fruit-bearing (John 15:12-17). Groups organically form and develop across the city\, across all ages\, and across all ethnicities. \nWhile we treasure the larger Sunday gatherings where the whole church comes together\, the small groups add a more personal and daily component to our church lives..Valley View Estate
URL:https://thechurchingurugram.in/event/group-meeting-2019-04-22/
LOCATION:Valley View Estate\, Gurugram\, India
CATEGORIES:Group Meeting
ORGANIZER;CN="Church in Gururgram":MAILTO:thechurchingurugram@gmail.com
END:VEVENT
BEGIN:VEVENT
DTSTART;TZID=Asia/Kolkata:20190421T100000
DTEND;TZID=Asia/Kolkata:20190421T130000
DTSTAMP:20260420T032930
CREATED:20190412T034631Z
LAST-MODIFIED:20190412T034631Z
UID:2645-1555840800-1555851600@thechurchingurugram.in
SUMMARY:Lord's Table Meeting
DESCRIPTION:
URL:https://thechurchingurugram.in/event/lords-table-meeting-2019-04-21/
LOCATION:DLF Phase 1\, Sector 26\, Gurugram\, Haryana 122002\, India
CATEGORIES:Lord's Table Meeting
ORGANIZER;CN="Church in Gururgram":MAILTO:thechurchingurugram@gmail.com
END:VEVENT
BEGIN:VEVENT
DTSTART;TZID=Asia/Kolkata:20190420T160000
DTEND;TZID=Asia/Kolkata:20190420T190000
DTSTAMP:20260420T032930
CREATED:20190412T033742Z
LAST-MODIFIED:20190412T033742Z
UID:2605-1555776000-1555786800@thechurchingurugram.in
SUMMARY:Gospel Preaching
DESCRIPTION:
URL:https://thechurchingurugram.in/event/gospel-preaching-2019-04-20/
LOCATION:DLF Phase 1\, Sector 26\, Gurugram\, Haryana 122002\, India
CATEGORIES:Gospel Preaching
ORGANIZER;CN="Church in Gururgram":MAILTO:thechurchingurugram@gmail.com
END:VEVENT
BEGIN:VEVENT
DTSTART;TZID=Asia/Kolkata:20190420T143000
DTEND;TZID=Asia/Kolkata:20190420T173000
DTSTAMP:20260420T032930
CREATED:20190412T033502Z
LAST-MODIFIED:20190412T033502Z
UID:2565-1555770600-1555781400@thechurchingurugram.in
SUMMARY:Prayer Meeting
DESCRIPTION:
URL:https://thechurchingurugram.in/event/prayer-meeting-2019-04-20/
LOCATION:DLF Phase 1\, Sector 26\, Gurugram\, Haryana 122002\, India
CATEGORIES:Prayer meeting
ORGANIZER;CN="Church in Gururgram":MAILTO:thechurchingurugram@gmail.com
END:VEVENT
BEGIN:VEVENT
DTSTART;TZID=Asia/Kolkata:20190419T193000
DTEND;TZID=Asia/Kolkata:20190419T203000
DTSTAMP:20260420T032930
CREATED:20190412T033120Z
LAST-MODIFIED:20190412T033120Z
UID:2488-1555702200-1555705800@thechurchingurugram.in
SUMMARY:Home Meeting
DESCRIPTION:
URL:https://thechurchingurugram.in/event/home-meeting-2-2019-04-19-2/
LOCATION:DLF Phase 1\, Sector 26\, Gurugram\, Haryana 122002\, India
CATEGORIES:Home Meeting
ORGANIZER;CN="Church in Gururgram":MAILTO:thechurchingurugram@gmail.com
END:VEVENT
BEGIN:VEVENT
DTSTART;TZID=Asia/Kolkata:20190419T163000
DTEND;TZID=Asia/Kolkata:20190419T173000
DTSTAMP:20260420T032930
CREATED:20190412T033120Z
LAST-MODIFIED:20190412T033120Z
UID:2487-1555691400-1555695000@thechurchingurugram.in
SUMMARY:Home Meeting
DESCRIPTION:
URL:https://thechurchingurugram.in/event/home-meeting-2-2019-04-19/
LOCATION:DLF Phase 1\, Sector 26\, Gurugram\, Haryana 122002\, India
CATEGORIES:Home Meeting
ORGANIZER;CN="Church in Gururgram":MAILTO:thechurchingurugram@gmail.com
END:VEVENT
BEGIN:VEVENT
DTSTART;TZID=UTC:20190418T200000
DTEND;TZID=UTC:20190418T210000
DTSTAMP:20260420T032930
CREATED:20190412T032427Z
LAST-MODIFIED:20190412T032427Z
UID:2445-1555617600-1555621200@thechurchingurugram.in
SUMMARY:Group Meeting
DESCRIPTION:Our small groups are at the heart of our church life and community. Small groups are characterized by a vital spiritual pursuit\, an intimate loving atmosphere\, and a committed goal of spiritual fruit-bearing (John 15:12-17). Groups organically form and develop across the city\, across all ages\, and across all ethnicities. \nWhile we treasure the larger Sunday gatherings where the whole church comes together\, the small groups add a more personal and daily component to our church lives.  The New Testament frequently uses the term “one another”\, and it is through our small groups that we practically enter into a “one another” living where we: \n“love one another” (John 13:34)\n“show honor one to another” (Rom. 12:10)\n“be of the same mind toward one another” (Rom. 12:16)\n“greet one another” (Rom. 16:16)\n“bear one another’s burdens” (Gal. 6:2)\n“bearing one another in love” (Eph. 4:2)\n“speaking to one another in psalms and hymns” (Eph. 5:19)\n“teaching and admonishing one another” (Col. 3:16)\n“exhort one another each day” (Heb. 3:13)\n“consider one another so as to incite one another to love and good works” (Heb. 10:24)\n“blessing one another” (1 Pet. 3:9)\n“be hospitable to one another” (1 Pet. 4:9)
URL:https://thechurchingurugram.in/event/group-meeting-2/
LOCATION:Golf Course Extension Road\, Badshahpur\, Sector 66\, Gurugram\, Haryana\, India
CATEGORIES:Group Meeting
ORGANIZER;CN="Church in Gururgram":MAILTO:thechurchingurugram@gmail.com
END:VEVENT
BEGIN:VEVENT
DTSTART;TZID=Asia/Kolkata:20190417T190000
DTEND;TZID=Asia/Kolkata:20190417T200000
DTSTAMP:20260420T032930
CREATED:20190412T032049Z
LAST-MODIFIED:20190412T032049Z
UID:2405-1555527600-1555531200@thechurchingurugram.in
SUMMARY:Home Meeting
DESCRIPTION:
URL:https://thechurchingurugram.in/event/home-meeting/
LOCATION:Sector 56\, Gurugram\, Haryana\, Gurugram\, India
CATEGORIES:Home Meeting
ORGANIZER;CN="Church in Gururgram":MAILTO:thechurchingurugram@gmail.com
END:VEVENT
BEGIN:VEVENT
DTSTART;TZID=Asia/Kolkata:20190416T183000
DTEND;TZID=Asia/Kolkata:20190416T193000
DTSTAMP:20260420T032930
CREATED:20190412T031205Z
LAST-MODIFIED:20190412T031318Z
UID:2326-1555439400-1555443000@thechurchingurugram.in
SUMMARY:Truth Pursuing
DESCRIPTION:
URL:https://thechurchingurugram.in/event/truth-pursuing/
LOCATION:DLF Phase 1\, Sector 26\, Gurugram\, Haryana 122002\, India
CATEGORIES:Truth Pursuing
END:VEVENT
BEGIN:VEVENT
DTSTART;TZID=Asia/Kolkata:20190415T193000
DTEND;TZID=Asia/Kolkata:20190415T203000
DTSTAMP:20260420T032930
CREATED:20190412T025945Z
LAST-MODIFIED:20190412T025945Z
UID:2270-1555356600-1555360200@thechurchingurugram.in
SUMMARY:Group Meeting
DESCRIPTION:Our small groups are at the heart of our church life and community. Small groups are characterised by a vital spiritual pursuit\, an intimate loving atmosphere\, and a committed goal of spiritual fruit-bearing (John 15:12-17). Groups organically form and develop across the city\, across all ages\, and across all ethnicities. \nWhile we treasure the larger Sunday gatherings where the whole church comes together\, the small groups add a more personal and daily component to our church lives..Valley View Estate
URL:https://thechurchingurugram.in/event/group-meeting/
LOCATION:Valley View Estate\, Gurugram\, India
CATEGORIES:Group Meeting
ORGANIZER;CN="Church in Gururgram":MAILTO:thechurchingurugram@gmail.com
END:VEVENT
BEGIN:VEVENT
DTSTART;TZID=Asia/Kolkata:20190414T100000
DTEND;TZID=Asia/Kolkata:20190414T130000
DTSTAMP:20260420T032930
CREATED:20190412T034631Z
LAST-MODIFIED:20190412T034631Z
UID:2643-1555236000-1555246800@thechurchingurugram.in
SUMMARY:Lord's Table Meeting
DESCRIPTION:
URL:https://thechurchingurugram.in/event/lords-table-meeting/
LOCATION:DLF Phase 1\, Sector 26\, Gurugram\, Haryana 122002\, India
CATEGORIES:Lord's Table Meeting
ORGANIZER;CN="Church in Gururgram":MAILTO:thechurchingurugram@gmail.com
END:VEVENT
BEGIN:VEVENT
DTSTART;TZID=Asia/Kolkata:20190413T160000
DTEND;TZID=Asia/Kolkata:20190413T190000
DTSTAMP:20260420T032930
CREATED:20190412T033742Z
LAST-MODIFIED:20190412T033742Z
UID:2603-1555171200-1555182000@thechurchingurugram.in
SUMMARY:Gospel Preaching
DESCRIPTION:
URL:https://thechurchingurugram.in/event/gospel-preaching/
LOCATION:DLF Phase 1\, Sector 26\, Gurugram\, Haryana 122002\, India
CATEGORIES:Gospel Preaching
ORGANIZER;CN="Church in Gururgram":MAILTO:thechurchingurugram@gmail.com
END:VEVENT
BEGIN:VEVENT
DTSTART;TZID=Asia/Kolkata:20190413T143000
DTEND;TZID=Asia/Kolkata:20190413T173000
DTSTAMP:20260420T032930
CREATED:20190412T033502Z
LAST-MODIFIED:20190412T033502Z
UID:2563-1555165800-1555176600@thechurchingurugram.in
SUMMARY:Prayer Meeting
DESCRIPTION:
URL:https://thechurchingurugram.in/event/prayer-meeting/
LOCATION:DLF Phase 1\, Sector 26\, Gurugram\, Haryana 122002\, India
CATEGORIES:Prayer meeting
ORGANIZER;CN="Church in Gururgram":MAILTO:thechurchingurugram@gmail.com
END:VEVENT
BEGIN:VEVENT
DTSTART;TZID=Asia/Kolkata:20190412T163000
DTEND;TZID=Asia/Kolkata:20190412T173000
DTSTAMP:20260420T032930
CREATED:20190412T033120Z
LAST-MODIFIED:20190412T033120Z
UID:2485-1555086600-1555090200@thechurchingurugram.in
SUMMARY:Home Meeting
DESCRIPTION:
URL:https://thechurchingurugram.in/event/home-meeting-2/
LOCATION:DLF Phase 1\, Sector 26\, Gurugram\, Haryana 122002\, India
CATEGORIES:Home Meeting
ORGANIZER;CN="Church in Gururgram":MAILTO:thechurchingurugram@gmail.com
END:VEVENT
END:VCALENDAR